BEGIN:VCALENDAR
VERSION:2.0
PRODID:-//Nowa Sukcesja - ECPv6.15.11//NONSGML v1.0//EN
CALSCALE:GREGORIAN
METHOD:PUBLISH
X-WR-CALNAME:Nowa Sukcesja
X-ORIGINAL-URL:https://www.nowasukcesja.pl
X-WR-CALDESC:Wydarzenia dla Nowa Sukcesja
REFRESH-INTERVAL;VALUE=DURATION:PT1H
X-Robots-Tag:noindex
X-PUBLISHED-TTL:PT1H
BEGIN:VTIMEZONE
TZID:Europe/Warsaw
BEGIN:DAYLIGHT
TZOFFSETFROM:+0100
TZOFFSETTO:+0200
TZNAME:CEST
DTSTART:20250330T010000
END:DAYLIGHT
BEGIN:STANDARD
TZOFFSETFROM:+0200
TZOFFSETTO:+0100
TZNAME:CET
DTSTART:20251026T010000
END:STANDARD
BEGIN:DAYLIGHT
TZOFFSETFROM:+0100
TZOFFSETTO:+0200
TZNAME:CEST
DTSTART:20260329T010000
END:DAYLIGHT
BEGIN:STANDARD
TZOFFSETFROM:+0200
TZOFFSETTO:+0100
TZNAME:CET
DTSTART:20261025T010000
END:STANDARD
BEGIN:DAYLIGHT
TZOFFSETFROM:+0100
TZOFFSETTO:+0200
TZNAME:CEST
DTSTART:20270328T010000
END:DAYLIGHT
BEGIN:STANDARD
TZOFFSETFROM:+0200
TZOFFSETTO:+0100
TZNAME:CET
DTSTART:20271031T010000
END:STANDARD
END:VTIMEZONE
BEGIN:VEVENT
DTSTART;TZID=Europe/Warsaw:20260228T100000
DTEND;TZID=Europe/Warsaw:20260301T210000
DTSTAMP:20260422T173342
CREATED:20260226T180427Z
LAST-MODIFIED:20260226T180427Z
UID:3230-1772272800-1772398800@www.nowasukcesja.pl
SUMMARY:🎮 WEJDŹ DO GRY - PREMIERA STREFY VR W HOPA LUPA
DESCRIPTION:Tylko w weekend 28.02-01.03 Największa Strefa VR w Polsce w @nowasukcesja 🚀 \n👉 Wiele stanowisk VR\n👉 Gry rodzinne\, przygodowe i symulatory (tak\, są wyścigi 😎)\n👉 Swobodny wybór gier\n👉 Opieka Game Masterów – Ty grasz\, oni ogarniają resztę \n🎟️ CENNIK PAKIETÓW VR:\n• START – 3 gry → 50 zł\n• PLAYER – 10 gier → 100 zł\n• PRO – 15 gier → 130 zł \nJeden pakiet = wiele stanowisk = pełna wolność grania przez cały weekend! \nPo akcji? Chill & food w strefie Hopa Lupa 🍔☕ \n📍 Sobota-niedziela\, 28.02-01.03\, Hopa Lupa\n🎮 Zakładasz gogle. Wchodzisz do gry. Reszta świata znika.
URL:https://www.nowasukcesja.pl/event/%f0%9f%8e%ae-wejdz-do-gry-premiera-strefy-vr-w-hopa-lupa/
LOCATION:Hopa Lupa\, Politechniki 1\, Łódź\, Łódzkie\, 95-100\, Poland
ATTACH;FMTTYPE=image/png:https://www.nowasukcesja.pl/wp-content/uploads/2026/02/Otwarcie_najwiekszej_strefy_vr_w_polsce.png
ORGANIZER;CN="Hopa Lupa":MAILTO:info@hopalupa.fun
END:VEVENT
BEGIN:VEVENT
DTSTART;TZID=Europe/Warsaw:20260307T100000
DTEND;TZID=Europe/Warsaw:20260307T210000
DTSTAMP:20260422T173342
CREATED:20260224T181056Z
LAST-MODIFIED:20260224T181056Z
UID:3198-1772877600-1772917200@www.nowasukcesja.pl
SUMMARY:Dzień Kobiet Nowa Sukcesja – Atrakcje\, Fitness i Zakupy w Łodzi
DESCRIPTION:Świętuj Dzień Kobiet w Nowej Sukcesji!\nDzień Kobiet Nowa Sukcesja to wyjątkowe wydarzenie 7 marca! W programie: analiza kolorystyczna\, fitness\, taniec i prezenty. Sprawdź najlepsze atrakcje w Łodzi. \nSzukasz pomysłu na 7 marca? Zapraszamy do Nowej Sukcesji – najbardziej nowoczesnego centrum handlowo-rozrywkowego w Łodzi. Przygotowaliśmy wyjątkowy dzień pełen atrakcji\, który pozwoli Ci połączyć dbanie o siebie z doskonałą zabawą w kobiecym gronie. \nProgram wydarzenia:\n\n\nAnaliza kolorystyczna i styl: Odkryj swój typ urody z profesjonalistami i dowiedz się\, jakie kolory podkreślają Twoją pewność siebie. \n\n\nWyzwania Fitness: Sprawdź swoją formę w naszej strefie sportowej i poczuj endorfiny! \n\n\nNauka Tańca: Krótki warsztat\, który pozwoli Ci poczuć rytm i kobiecą energię. \n\n\nSpotkania i Inspiracje: Rozmowy z ekspertami o zdrowiu\, modzie i stylu życia. \n\n\nSłodkie Niespodzianki: Upominki i prezenty przygotowane specjalnie dla Pań odwiedzających naszą galerię. \n\n\nDlaczego warto spędzić ten dzień u nas?\nW Nowej Sukcesji udowadniamy\, że pod jednym dachem możesz załatwić wszystko. Przy okazji Dnia Kobiet skorzystaj z naszej pełnej oferty: \n\n\nRelaks: Odwiedź kino\, wybierz się na kręgle lub zaplanuj wizytę u fryzjera. \n\n\nZakupy: Sprawdź najnowsze kolekcje w Twoich ulubionych sklepach. \n\n\nCzas dla rodziny: Zabierz dzieci do największej strefy zabaw\, a sama oddaj się świętowaniu. \n\n\nZarezerwuj czas 7.03 i celebruj kobiecość w sercu Łodzi!
URL:https://www.nowasukcesja.pl/event/dzien-kobiet-nowa-sukcesja/
LOCATION:Nowa Sukcesja
ATTACH;FMTTYPE=image/png:https://www.nowasukcesja.pl/wp-content/uploads/2026/02/Dzien_Kobiet_W_Nowej_Sukcesji_Lodz-1-1.png
END:VEVENT
BEGIN:VEVENT
DTSTART;TZID=Europe/Warsaw:20260321T100000
DTEND;TZID=Europe/Warsaw:20260321T210000
DTSTAMP:20260422T173342
CREATED:20260313T174547Z
LAST-MODIFIED:20260313T174547Z
UID:3266-1774087200-1774126800@www.nowasukcesja.pl
SUMMARY:Pierwszy dzień wiosny! Wymień stare\, sadź nowe
DESCRIPTION:Pierwszy Dzień Wiosny w Nowej Sukcesja to czas promocji\, radości i wiosennych inspiracji! 21 marca zapraszamy na specjalne oferty w sklepach i mnóstwo pozytywnej energii dla całych rodzin. To idealna okazja\, by odświeżyć styl\, złapać dobry nastrój i rozpocząć nowy sezon w najlepszej atmosferze.\nWidzimy się w Nowej Sukcesji – tu wiosna zaczyna się naprawdę!
URL:https://www.nowasukcesja.pl/event/pierwszy-dzien-wiosny-wymien-stare-sadz-nowe/
LOCATION:Nowa Sukcesja
ATTACH;FMTTYPE=image/png:https://www.nowasukcesja.pl/wp-content/uploads/2026/03/Pierwszy_Dzien_Wiosny.png
END:VEVENT
BEGIN:VEVENT
DTSTART;TZID=Europe/Warsaw:20260328T110000
DTEND;TZID=Europe/Warsaw:20260328T180000
DTSTAMP:20260422T173342
CREATED:20260324T142925Z
LAST-MODIFIED:20260324T143406Z
UID:3318-1774695600-1774720800@www.nowasukcesja.pl
SUMMARY:Wielkanocne Poszukiwania w Nowej Sukcesji! Sobota
DESCRIPTION:Wielkanocne Poszukiwania w Nowej Sukcesji!\nWielkanoc to czas radości\, rodzinnych spotkań i wspólnego spędzania czasu. W tym roku połącz świąteczne przygotowania z wyjątkową zabawą dla najmłodszych!\n📅 28–29 marca\n🕐 11:00–18:00\nDzieci wraz z rodzicami wyruszą na poszukiwanie wielkanocnych elementów ukrytych w galerii i zbieranie pieczątek. Po skompletowaniu wszystkich na małych odkrywców czekają wielkanocne nagrody! 🎁\nJak wziąć udział? 👇\n📍 Odwiedź infopoint i odbierz specjalną kartę 📝\n🛍️ Szukaj kurek w sklepach naszej galerii\n✔️ Znalazłeś kurkę? Poproś sprzedawcę o stempelek!\nZabawa trwa przez cały weekend – zarówno w sobotę\, jak i w niedzielę 29 marca\, która jest niedzielą handlową! To idealna okazja\, by bez pośpiechu przygotować się do świąt.\nDekoracje\, smakołyki na wielkanocny stół\, modowe inspiracje – wszystko znajdziesz w jednym miejscu. A gdy Ty zajmiesz się zakupami\, dzieci mogą oddać się zabawie w Hopa Lupa. Po wszystkim złap chwilę relaksu i spędź czas tak\, jak lubisz.\nPrzyjdźcie całą rodziną\, przeżyjcie wspólnie radosną przygodę i sprawcie\, by tegoroczna Wielkanoc była naprawdę wyjątkowa! 🌸💛
URL:https://www.nowasukcesja.pl/event/wielkanocne-poszukiwania-w-nowej-sukcesji/
LOCATION:Nowa Sukcesja
ATTACH;FMTTYPE=image/png:https://www.nowasukcesja.pl/wp-content/uploads/2026/03/KURKI-post.png
END:VEVENT
BEGIN:VEVENT
DTSTART;TZID=Europe/Warsaw:20260329T100000
DTEND;TZID=Europe/Warsaw:20260329T210000
DTSTAMP:20260422T173342
CREATED:20260226T160127Z
LAST-MODIFIED:20260226T160127Z
UID:3207-1774778400-1774818000@www.nowasukcesja.pl
SUMMARY:Niedziela handlowa
DESCRIPTION:Niedziela handlowa w Nowa Sukcesja to idealny czas na zakupy w najlepszym centrum handlowym w Łodzi! W Nowej Sukcesji każdy znajdzie coś dla siebie – modną odzież\, dodatki do domu\, AGD i RTV\, kosmetyki\, a także pyszne jedzenie i niesamowitą rozrywkę. Spędź niedzielę handlową aktywnie i komfortowo\, korzystając z bogatej oferty sklepów oraz atrakcji dla całej rodziny. \nOdwiedź Nową Sukcesję i połącz zakupy z wyjątkową zabawą w sercu Łodzi!
URL:https://www.nowasukcesja.pl/event/niedziela-handlowa/
LOCATION:Nowa Sukcesja
ATTACH;FMTTYPE=image/png:https://www.nowasukcesja.pl/wp-content/uploads/2026/02/NEDZIELE-HANDLOWE-2-scaled.png
END:VEVENT
BEGIN:VEVENT
DTSTART;TZID=Europe/Warsaw:20260329T110000
DTEND;TZID=Europe/Warsaw:20260329T180000
DTSTAMP:20260422T173342
CREATED:20260324T143512Z
LAST-MODIFIED:20260324T143512Z
UID:3325-1774782000-1774807200@www.nowasukcesja.pl
SUMMARY:Wielkanocne Poszukiwania w Nowej Sukcesji! Niedziela
DESCRIPTION:Wielkanocne Poszukiwania w Nowej Sukcesji!\nWielkanoc to czas radości\, rodzinnych spotkań i wspólnego spędzania czasu. W tym roku połącz świąteczne przygotowania z wyjątkową zabawą dla najmłodszych!\n📅 28–29 marca\n🕐 11:00–18:00\nDzieci wraz z rodzicami wyruszą na poszukiwanie wielkanocnych elementów ukrytych w galerii i zbieranie pieczątek. Po skompletowaniu wszystkich na małych odkrywców czekają wielkanocne nagrody! 🎁\nJak wziąć udział? 👇\n📍 Odwiedź infopoint i odbierz specjalną kartę 📝\n🛍️ Szukaj kurek w sklepach naszej galerii\n✔️ Znalazłeś kurkę? Poproś sprzedawcę o stempelek!\nZabawa trwa przez cały weekend – zarówno w sobotę\, jak i w niedzielę 29 marca\, która jest niedzielą handlową! To idealna okazja\, by bez pośpiechu przygotować się do świąt.\nDekoracje\, smakołyki na wielkanocny stół\, modowe inspiracje – wszystko znajdziesz w jednym miejscu. A gdy Ty zajmiesz się zakupami\, dzieci mogą oddać się zabawie w Hopa Lupa. Po wszystkim złap chwilę relaksu i spędź czas tak\, jak lubisz.\nPrzyjdźcie całą rodziną\, przeżyjcie wspólnie radosną przygodę i sprawcie\, by tegoroczna Wielkanoc była naprawdę wyjątkowa! 🌸💛
URL:https://www.nowasukcesja.pl/event/wielkanocne-poszukiwania-w-nowej-sukcesji-niedziela/
LOCATION:Nowa Sukcesja
ATTACH;FMTTYPE=image/png:https://www.nowasukcesja.pl/wp-content/uploads/2026/03/KURKI-post.png
END:VEVENT
END:VCALENDAR