BEGIN:VCALENDAR
VERSION:2.0
PRODID:-//Nowa Sukcesja - ECPv6.15.11//NONSGML v1.0//EN
CALSCALE:GREGORIAN
METHOD:PUBLISH
X-WR-CALNAME:Nowa Sukcesja
X-ORIGINAL-URL:https://www.nowasukcesja.pl
X-WR-CALDESC:Wydarzenia dla Nowa Sukcesja
REFRESH-INTERVAL;VALUE=DURATION:PT1H
X-Robots-Tag:noindex
X-PUBLISHED-TTL:PT1H
BEGIN:VTIMEZONE
TZID:Europe/Warsaw
BEGIN:DAYLIGHT
TZOFFSETFROM:+0100
TZOFFSETTO:+0200
TZNAME:CEST
DTSTART:20240331T010000
END:DAYLIGHT
BEGIN:STANDARD
TZOFFSETFROM:+0200
TZOFFSETTO:+0100
TZNAME:CET
DTSTART:20241027T010000
END:STANDARD
BEGIN:DAYLIGHT
TZOFFSETFROM:+0100
TZOFFSETTO:+0200
TZNAME:CEST
DTSTART:20250330T010000
END:DAYLIGHT
BEGIN:STANDARD
TZOFFSETFROM:+0200
TZOFFSETTO:+0100
TZNAME:CET
DTSTART:20251026T010000
END:STANDARD
BEGIN:DAYLIGHT
TZOFFSETFROM:+0100
TZOFFSETTO:+0200
TZNAME:CEST
DTSTART:20260329T010000
END:DAYLIGHT
BEGIN:STANDARD
TZOFFSETFROM:+0200
TZOFFSETTO:+0100
TZNAME:CET
DTSTART:20261025T010000
END:STANDARD
END:VTIMEZONE
BEGIN:VEVENT
DTSTART;TZID=Europe/Warsaw:20251201T100000
DTEND;TZID=Europe/Warsaw:20251223T210000
DTSTAMP:20260422T223127
CREATED:20251129T152029Z
LAST-MODIFIED:20251207T153951Z
UID:2807-1764583200-1766523600@www.nowasukcesja.pl
SUMMARY:🎄 Świąteczna Promocja w Nowej Sukcesji! 🎅
DESCRIPTION:Wrzuc swój list do Świętego Mikołaja do specjalnej skrzynki zlokalizowanej naprzeciwko Biedronki i Loris w Nowej Sukcesji!\n📸 Zrób zdjęcie w Nowej Sukcesji\, oznacz nas hasztagiem #swietanowasukcesja oraz oznacz @nowasukcesja @hopalupa – a w zamian otrzymasz voucher o wartości 50 zł od Hopalupa! \nTo idealna okazja\, aby poczuć magię świąt i przy okazji zgarnąć prezent dla siebie lub bliskich.\nNie czekaj – Mikołaj już czeka na Twój list! 🎁 \nRegulamin znajdziecie tutaj
URL:https://www.nowasukcesja.pl/event/%f0%9f%8e%84-swiateczna-promocja-w-nowej-sukcesji-%f0%9f%8e%85/
LOCATION:Nowa Sukcesja
ATTACH;FMTTYPE=image/png:https://www.nowasukcesja.pl/wp-content/uploads/2025/11/listy-do-m.png
END:VEVENT
BEGIN:VEVENT
DTSTART;TZID=Europe/Warsaw:20251206T100000
DTEND;TZID=Europe/Warsaw:20251206T170000
DTSTAMP:20260422T223127
CREATED:20251205T115842Z
LAST-MODIFIED:20251205T115842Z
UID:2881-1765015200-1765040400@www.nowasukcesja.pl
SUMMARY:🎉 Wielkie Otwarcie Sklepów Gatta i World of Asia w Nowej Sukcesji!
DESCRIPTION:Zapraszamy na wielkie otwarcie sklepów Gatta oraz World of Asia w Nowej Sukcesji! 🎊To wyjątkowa okazja\, aby odkryć najnowsze kolekcje\, promocje i wyjątkowe produkty w nowo otwartych sklepach. \nW Gatta znajdziesz modę i dodatki\, które łączą styl\, wygodę i najwyższą jakość. Z okazji otwarcia przygotowano atrakcyjne promocje i możliwość obejrzenia najnowszych trendów w świecie mody. \nW World of Asia czekają na odwiedzających wyjątkowe animacje i atrakcje\, które umilą czas spędzony w galerii i pozwolą poczuć klimat azjatyckich inspiracji. To doskonała okazja\, aby odkryć egzotyczne produkty\, spróbować unikalnych smaków i wziąć udział w kreatywnych aktywnościach przygotowanych specjalnie na ten dzień. \nNie przegap wielkiego otwarcia sklepów Gatta i World of Asia w Nowej Sukcesji! To doskonały moment na zakupy\, zabawę i rodzinne spędzenie czasu w galerii.
URL:https://www.nowasukcesja.pl/event/%f0%9f%8e%89-wielkie-otwarcie-sklepow-gatta-i-world-of-asia-w-nowej-sukcesji/
LOCATION:Nowa Sukcesja
ATTACH;FMTTYPE=image/png:https://www.nowasukcesja.pl/wp-content/uploads/2025/11/Otwarcie_Gatta_World_Of_Asia.png
END:VEVENT
BEGIN:VEVENT
DTSTART;TZID=Europe/Warsaw:20251212T100000
DTEND;TZID=Europe/Warsaw:20251214T210000
DTSTAMP:20260422T223127
CREATED:20251211T195551Z
LAST-MODIFIED:20251212T114619Z
UID:2923-1765533600-1765746000@www.nowasukcesja.pl
SUMMARY:Strefa Intel Game Arena w Galerii Sukcesja!
DESCRIPTION:Zapraszamy do wyjątkowej strefy Intel (we współpracy z Media Expert)\, gdzie każdego dnia czeka na Was wiele fantastycznych atrakcji. Sprawdźcie sami\, czego możecie się spodziewać: \nSprzęt na procesorach Intel Ultra – przetestuj sprzęt wyposażony w najnowsze technologie\nGamingowe emocje – szeroki wybór gier i możliwość wzięcia udziału w turniejach z nagrodami\nKONKURSY\, a w nich do wygrania karty podarunkowe do Media Expert o wartości 200 zł oraz akcesoria gamingowe \nA jeśli marzy Wam się idealny prezent na święta\, to mamy coś dla Was! Podczas eventu odbędzie się Quiz wiedzy o sprzęcie\, grach i technologii Intel\, w którym zwycięzca zgarnie kartę podarunkową do Media Expert o wartości 1000 zł! \nNie zabraknie również gadżetów marki Intel\, a w konkursie online czeka na Was wyjątkowa nagroda – laptop LENOVO Legion 5 Pro\, stworzony z myślą o graczach! \nWystarczy\, że odpowiesz na pytanie konkursowe. Więcej informacji na stronie: https://intelgamerarena.pl/mediaexpert
URL:https://www.nowasukcesja.pl/event/strefa-intel-game-arena-w-galerii-sukcesja/
LOCATION:Nowa Sukcesja
ATTACH;FMTTYPE=image/png:https://www.nowasukcesja.pl/wp-content/uploads/2025/12/POSTY-kopia-2.png
END:VEVENT
BEGIN:VEVENT
DTSTART;TZID=Europe/Warsaw:20251220T110000
DTEND;TZID=Europe/Warsaw:20251220T160000
DTSTAMP:20260422T223127
CREATED:20251209T115250Z
LAST-MODIFIED:20251210T132141Z
UID:2905-1766228400-1766246400@www.nowasukcesja.pl
SUMMARY:Gwiazdki Betlejemskie w Łodzi. 20 grudnia w Nowej Sukcesji
DESCRIPTION:Gwiazdki Betlejemskie w Łodzi. 20 grudnia w Nowej Sukcesji\nJak to działa?\n\n\nKażda pełnoletnia osoba\, która weźmie udział w akcji (raz na osobę)\, może otrzymać jedną lub dwie rośliny — w zależności od wagi przyniesionych elektrośmieci lub baterii.\nZasady są jasne: \n\n\n\n\n\nKażdy Uczestnik otrzymuje 1 roślinę za przyniesione elektrośmieci ważące łącznie do 3 kg. W przypadku\, gdy uczestnik akcji odda kilka elektrośmieci ważących łącznie od 3 do 10 kg otrzyma 3 rośliny.\nKażdy Uczestnik otrzymuje 1 roślinę za przyniesienie do 0\,5 kg baterii\, od 0\,5 do 1 kg baterii otrzymuje 2 rośliny\, powyżej 1 kg baterii uczestnik otrzymuje 3 rośliny.\nMaksymalnie 3 rośliny na osobę\n\n\n\n\n\nCo ważne: po wyczerpaniu 500 sztuk nadal będzie można oddawać elektrośmieci\, ale już bez odbioru gwiazdy. \n\n\nCo można oddać?\n\n\nZbierane będą wyłącznie małe urządzenia elektryczne i elektroniczne\, m.in.: telefony\, laptopy\, tablety\, aparaty\, słuchawki\, ładowarki\, ekspresy\, tostery\, roboty kuchenne\, odkurzacze\, żelazka\, wentylatory\, elektroniczne zabawki. Łączna waga: maksymalnie 10 kg. \n\n\n\n\nDuże urządzenia — telewizory\, lodówki\, pralki\, zmywarki\, kosiarki i wszystkie gabarytowe odpady — muszą trafić do PSZOK-u i nie będą przyjmowane na akcji. \n\n\nDlaczego warto?\n\n\nGrudzień bywa pełen przygotowań i natłoku obowiązków\, ale w Centrum Handlowym Nowa Sukcesja można załatwić kilka spraw naraz: pozbyć się małych elektroodpadów\, oszczędzić czas na wyjazd do PSZOK-u\, zrobić przedswiąteczne zakupy dla najbliższych i przy okazji zabrać do domu gwiazdę betlejemską\, która wniesie świąteczny kolor. Do tego każdy uczestnik otrzyma bezpłatny śpiewnik z kolędami\, który wprowadzi dom w świąteczny nastrój. To drobiazg\, który potrafi zmienić popołudnie w wyjątkowy\, rodzinny moment\, bo wspólne śpiewanie jest jednym z najpiękniejszych\, a często zapominanych świątecznych rytuałów \n\n\n\n\n20 grudnia w Centrum Handlowym Nowa Sukcesja można więc zrobić porządek\, pomóc planecie\, zdobyć świąteczny prezent i załatwić ostatnie zakupy — bez nerwów\, bez pośpiechu\, za to z poczuciem\, że grudzień może być naprawdę życzliwy. \n\n\n\n\nCentrum Handlowe Nowa Sukcesja\, al. Politechniki 1\, godz. 11:00–16:00. \n\n\n\n\nOstatnia przedświąteczna sobota\, która przyniesie więcej niż tylko porządek.
URL:https://www.nowasukcesja.pl/event/gwiazdki-betlejemskie-w-lodzi-20-grudnia-w-nowej-sukcesji/
LOCATION:Nowa Sukcesja
ATTACH;FMTTYPE=image/webp:https://www.nowasukcesja.pl/wp-content/uploads/2025/12/GWIAZDY.webp
END:VEVENT
BEGIN:VEVENT
DTSTART;VALUE=DATE:20251224
DTEND;VALUE=DATE:20251227
DTSTAMP:20260422T223127
CREATED:20251223T114531Z
LAST-MODIFIED:20251223T114531Z
UID:2973-1766534400-1766793599@www.nowasukcesja.pl
SUMMARY:Świąteczne życzenia od Galerii Nowa Sukcesja
DESCRIPTION:🎄 Świąteczne życzenia od Galerii Nowa Sukcesja 🎄 \nZ okazji nadchodzących Świąt życzymy Wam wesołych\, ciepłych i pełnych radości chwil\, spędzonych w gronie najbliższych.Niech ten wyjątkowy czas przyniesie spokój\, uśmiech i nową energię na nadchodzące dni. \nMiniony rok był dla nas szczególny — Nowa Sukcesja ponownie otworzyła swoje drzwi\, rozpoczynając nowy rozdział swojej historii. To był piękny czas zmian\, spotkań i powrotów\, który nie byłby możliwy bez Was. \n❤️ Dziękujemy wszystkim Klientom za obecność\, zaufanie i wspólne chwile. \n📌 Informacje świąteczne:\n• Galeria Nowa Sukcesja będzie zamknięta (zapraszamy 27.12.2025)• Hopa Lupa zaprasza  w Wigilię w godzinach 10:00–15:00 oraz już w drugi dzień Świąt w godzinach 12:00–21:00 \nJuż dziś zapraszamy Was w Nowym Roku — z nową energią\, nowymi markami i kolejnymi powodami\, by do nas wracać. \nDo zobaczenia w Galerii Nowa Sukcesja ✨
URL:https://www.nowasukcesja.pl/event/swiateczne-zyczenia-od-galerii-nowa-sukcesja/
LOCATION:Nowa Sukcesja
ATTACH;FMTTYPE=image/png:https://www.nowasukcesja.pl/wp-content/uploads/2025/12/WesolychSwiatNowaSukcesja.png
END:VEVENT
END:VCALENDAR