BEGIN:VCALENDAR
VERSION:2.0
PRODID:-//Nowa Sukcesja - ECPv6.15.11//NONSGML v1.0//EN
CALSCALE:GREGORIAN
METHOD:PUBLISH
X-ORIGINAL-URL:https://www.nowasukcesja.pl
X-WR-CALDESC:Wydarzenia dla Nowa Sukcesja
REFRESH-INTERVAL;VALUE=DURATION:PT1H
X-Robots-Tag:noindex
X-PUBLISHED-TTL:PT1H
BEGIN:VTIMEZONE
TZID:Europe/Warsaw
BEGIN:DAYLIGHT
TZOFFSETFROM:+0100
TZOFFSETTO:+0200
TZNAME:CEST
DTSTART:20240331T010000
END:DAYLIGHT
BEGIN:STANDARD
TZOFFSETFROM:+0200
TZOFFSETTO:+0100
TZNAME:CET
DTSTART:20241027T010000
END:STANDARD
BEGIN:DAYLIGHT
TZOFFSETFROM:+0100
TZOFFSETTO:+0200
TZNAME:CEST
DTSTART:20250330T010000
END:DAYLIGHT
BEGIN:STANDARD
TZOFFSETFROM:+0200
TZOFFSETTO:+0100
TZNAME:CET
DTSTART:20251026T010000
END:STANDARD
BEGIN:DAYLIGHT
TZOFFSETFROM:+0100
TZOFFSETTO:+0200
TZNAME:CEST
DTSTART:20260329T010000
END:DAYLIGHT
BEGIN:STANDARD
TZOFFSETFROM:+0200
TZOFFSETTO:+0100
TZNAME:CET
DTSTART:20261025T010000
END:STANDARD
END:VTIMEZONE
BEGIN:VEVENT
DTSTART;TZID=Europe/Warsaw:20251103T100000
DTEND;TZID=Europe/Warsaw:20251130T210000
DTSTAMP:20260423T001557
CREATED:20251106T184943Z
LAST-MODIFIED:20251106T184943Z
UID:2576-1762164000-1764536400@www.nowasukcesja.pl
SUMMARY:🎉 Zgarnij DRUGIE WEJŚCIE w Hopa Lupa! 🎉
DESCRIPTION:Wpadnij do naszej strefy City lub strefy trampolin i odbierz darmowe wejście na kolejną zabawę na strefach! \nJak to działa?1️⃣ Wejdź do strefy City lub trampolin w dniach od 5 do 30 listopada 2025 r.2️⃣ Już następnego dnia otrzymasz darmowe wejście na swoje konto!3️⃣ Wykorzystaj je przy kolejnym wejściu – ale od poniedziałku do piątku! \nDarmowe wejścia są ważne do 30 listopada 2025 r.\nPromocja dostępna w kasie Hopa Lupa oraz online. \nOferta dotyczy wejść indywidualnych i nie łączy się z innymi rabatami ani promocjami.\n👉 Szczegóły w regulaminie dostępnym tutaj. \nNie czekaj – baw się\, skacz i odbieraj bonusy! 😄
URL:https://www.nowasukcesja.pl/event/%f0%9f%8e%89-zgarnij-drugie-wejscie-w-hopa-lupa-%f0%9f%8e%89/
LOCATION:Hopa Lupa\, Politechniki 1\, Łódź\, Łódzkie\, 95-100\, Poland
ATTACH;FMTTYPE=image/png:https://www.nowasukcesja.pl/wp-content/uploads/2025/11/listopadowaPromocjaWydarzenie.png
ORGANIZER;CN="Hopa Lupa":MAILTO:info@hopalupa.fun
END:VEVENT
BEGIN:VEVENT
DTSTART;VALUE=DATE:20251111
DTEND;VALUE=DATE:20251112
DTSTAMP:20260423T001557
CREATED:20251030T122928Z
LAST-MODIFIED:20251030T122928Z
UID:2343-1762819200-1762905599@www.nowasukcesja.pl
SUMMARY:Restauracje otwarte w Nowej Sukcesji 11 listopada!
DESCRIPTION:🇵🇱 11 listopada świętuj z nami – smacznie i z uśmiechem!\nNasze restauracje i kawiarnie w centrum handlowym są otwarte przez cały dzień! Zabierz bliskich\, przyjdź na pyszny lunch\, deser lub coś na wynos i ciesz się wspólnym czasem. Niech ten dzień będzie pełen smaków\, spotkań i dobrego nastroju! 🤍❤️Sprawdź\, które restauracje i kawiarnie czekają na Ciebie!
URL:https://www.nowasukcesja.pl/event/restauracje-otwarte-11-listopada/
LOCATION:Nowa Sukcesja
ATTACH;FMTTYPE=image/jpeg:https://www.nowasukcesja.pl/wp-content/uploads/2025/10/zdj_11_listo_wydarzenie-scaled.jpg
END:VEVENT
BEGIN:VEVENT
DTSTART;TZID=Europe/Warsaw:20251111T100000
DTEND;TZID=Europe/Warsaw:20251111T210000
DTSTAMP:20260423T001557
CREATED:20251106T175456Z
LAST-MODIFIED:20251106T175456Z
UID:2570-1762855200-1762894800@www.nowasukcesja.pl
SUMMARY:🎉 WYŁĄCZAMY ZEGARY – BAW SIĘ BEZ OGRANICZEŃ! 🎉
DESCRIPTION:11 listopada zapraszamy wszystkich do Hopalupy na wyjątkowy dzień pełen zabawy!\nZamiast standardowego biletu za 79 zł na 2 godziny\, wyłączamy zegary ⏰\n👉 Bawicie się cały dzień bez limitu czasu! \n🕙 Jesteśmy otwarci od 10:00 do 21:00\n💥 Możecie przyjść o dowolnej godzinie i zostać tak długo\, jak chcecie!\n🎈 Czeka na Was mnóstwo atrakcji w strefach Island\, City i Trampolin.
URL:https://www.nowasukcesja.pl/event/%f0%9f%8e%89-wylaczamy-zegary-baw-sie-bez-ograniczen-%f0%9f%8e%89/
LOCATION:Hopa Lupa\, Politechniki 1\, Łódź\, Łódzkie\, 95-100\, Poland
ATTACH;FMTTYPE=image/jpeg:https://www.nowasukcesja.pl/wp-content/uploads/2025/11/Zdjecie-WhatsApp-2025-11-06-o-18.51.36_00ec8287.jpg
ORGANIZER;CN="Hopa Lupa":MAILTO:info@hopalupa.fun
END:VEVENT
BEGIN:VEVENT
DTSTART;TZID=Europe/Warsaw:20251119T100000
DTEND;TZID=Europe/Warsaw:20251130T210000
DTSTAMP:20260423T001557
CREATED:20251119T175907Z
LAST-MODIFIED:20251119T175907Z
UID:2660-1763546400-1764536400@www.nowasukcesja.pl
SUMMARY:Akcja charytatywna Fundacja Gajusz x Monnari
DESCRIPTION:Obecnie w naszych salonach Monnari trwa akcja charytatywna wraz z Fundacją Gajusz. Pakując swoje zakupy w torebkę Fundacja Gajusz x Monnari cały przychód ze sprzedaży torebek przekazujemy na Fundację. Torebka kosztuje zaledwie 1\,99 zł. ❤️
URL:https://www.nowasukcesja.pl/event/akcja-charytatywna-fundacja-gajusz-x-monnari/
LOCATION:Nowa Sukcesja
ATTACH;FMTTYPE=image/png:https://www.nowasukcesja.pl/wp-content/uploads/2025/11/thumbnail_torby-fundacja-galerie_1080x1080.png
END:VEVENT
BEGIN:VEVENT
DTSTART;TZID=Europe/Warsaw:20251121T130000
DTEND;TZID=Europe/Warsaw:20251123T210000
DTSTAMP:20260423T001557
CREATED:20251030T125747Z
LAST-MODIFIED:20251121T092751Z
UID:2355-1763730000-1763931600@www.nowasukcesja.pl
SUMMARY:Rubble & Crew – Niezwykłe spotkanie z Rubblem i jego ekipą!
DESCRIPTION:Już wkrótce Nowa Sukcesja zamieni się w kolorowe miasteczko budowniczych! Wszystko za sprawą wyjątkowego wydarzenia z udziałem bohaterów uwielbianej przez dzieci serii „Rubble & Crew”. W dniach  21.11 do 23.11  na najmłodszych (i nie tylko!) czeka moc atrakcji\, budowlanych wyzwań i niezapomnianych spotkań z Rubblem i jego drużyną! \nW pełnej akcji strefie zabawy dzieci będą mogły poczuć się jak prawdziwi członkowie ekipy budowlanej. Każdy mały uczestnik otrzyma dyplom i weźmie udział w serii interaktywnych aktywności\, które rozwijają kreatywność\, refleks\, precyzję i ducha współpracy. Na miejscu będzie można m.in.: \nSpotkaj Rubble’a i zrób sobie z nim pamiątkowe zdjęcie\n🔸 Zbuduj i zburz ścianę w strefie Motor\n🔸 Sprawdź swój refleks jak Charger\n🔸 Zostań DJ-em na imprezie Rubble’a i miksuj muzykę\n🔸 Zasiądź za sterami koparki jak prawdziwy operator\n🔸 Zbuduj wielką konstrukcję z mega klocków u Dziadka Gravela\n🔸 Pokonaj tor przeszkód zdalnie sterowanym spychaczem\n🔸 …i odkryj wiele więcej niespodzianek! \nWydarzenie odbywać się będzie w bajkowej\, kolorowej scenografii z udziałem animatorów i hostess. To niepowtarzalna okazja\, by przeżyć wyjątkowy dzień w świecie pełnym wyobraźni\, pracy zespołowej i dobrej zabawy! \nNie przegap tego spotkania – dołącz do ekipy Rubble’a i przeżyj przygodę\, której długo nie zapomnisz!
URL:https://www.nowasukcesja.pl/event/rubble_n_crew/
LOCATION:Nowa Sukcesja
ATTACH;FMTTYPE=image/png:https://www.nowasukcesja.pl/wp-content/uploads/2025/10/POST-rubble-03-1.png
END:VEVENT
BEGIN:VEVENT
DTSTART;TZID=Europe/Warsaw:20251122T090000
DTEND;TZID=Europe/Warsaw:20251122T210000
DTSTAMP:20260423T001557
CREATED:20251121T190914Z
LAST-MODIFIED:20251121T191722Z
UID:2702-1763802000-1763845200@www.nowasukcesja.pl
SUMMARY:✨ Wielkie Otwarcie: Butik Golden debiutuje w Nowej Sukcesji!
DESCRIPTION:Już jutro Nowa Sukcesja zabłyśnie nowym blaskiem! Zapraszamy na wielkie otwarcie Butiku Golden – miejsca stworzonego z miłości do mody\, kobiecości i najnowszych trendów. \nTo wyjątkowa okazja\, by jako pierwsza odkryć przestrzeń pełną stylu i inspiracji. Z okazji debiutu przygotowaliśmy dla Was dzień pełen modowych wrażeń! W Golden poczujesz się wyjątkowo\, odświeżysz swoją szafę i znajdziesz kreacje\, które skradną Twoje serce. Na pierwsze Klientki czeka moc niespodzianek: \n👗 Premiera najnowszych modeli sukienek i stylowych kompletów✨ Porady\, jak dobrać idealną stylizację do swojej sylwetki \nNie może Cię zabraknąć! Zabierz przyjaciółkę\, mamę lub siostrę i spędźcie z nami ten stylowy dzień. Odkryj świat Golden i znajdź swoje nowe modowe perełki! \nWidzimy się już jutro w Nowej Sukcesji!
URL:https://www.nowasukcesja.pl/event/%e2%9c%a8-wielkie-otwarcie-butik-golden-debiutuje-w-nowej-sukcesji/
ATTACH;FMTTYPE=image/png:https://www.nowasukcesja.pl/wp-content/uploads/2025/11/GOLDEN-BUTIK--scaled.png
END:VEVENT
BEGIN:VEVENT
DTSTART;TZID=Europe/Warsaw:20251128T100000
DTEND;TZID=Europe/Warsaw:20251129T210000
DTSTAMP:20260423T001557
CREATED:20251114T150356Z
LAST-MODIFIED:20251114T150356Z
UID:2621-1764324000-1764450000@www.nowasukcesja.pl
SUMMARY:Giełda płyt winylowych
DESCRIPTION:
URL:https://www.nowasukcesja.pl/event/gielda-plyt-winylowych/
ATTACH;FMTTYPE=image/png:https://www.nowasukcesja.pl/wp-content/uploads/2025/11/POST-winyle-1.png
END:VEVENT
END:VCALENDAR