BEGIN:VCALENDAR
VERSION:2.0
PRODID:-//Nowa Sukcesja - ECPv6.15.11//NONSGML v1.0//EN
CALSCALE:GREGORIAN
METHOD:PUBLISH
X-ORIGINAL-URL:https://www.nowasukcesja.pl
X-WR-CALDESC:Wydarzenia dla Nowa Sukcesja
REFRESH-INTERVAL;VALUE=DURATION:PT1H
X-Robots-Tag:noindex
X-PUBLISHED-TTL:PT1H
BEGIN:VTIMEZONE
TZID:Europe/Warsaw
BEGIN:DAYLIGHT
TZOFFSETFROM:+0100
TZOFFSETTO:+0200
TZNAME:CEST
DTSTART:20250330T010000
END:DAYLIGHT
BEGIN:STANDARD
TZOFFSETFROM:+0200
TZOFFSETTO:+0100
TZNAME:CET
DTSTART:20251026T010000
END:STANDARD
BEGIN:DAYLIGHT
TZOFFSETFROM:+0100
TZOFFSETTO:+0200
TZNAME:CEST
DTSTART:20260329T010000
END:DAYLIGHT
BEGIN:STANDARD
TZOFFSETFROM:+0200
TZOFFSETTO:+0100
TZNAME:CET
DTSTART:20261025T010000
END:STANDARD
BEGIN:DAYLIGHT
TZOFFSETFROM:+0100
TZOFFSETTO:+0200
TZNAME:CEST
DTSTART:20270328T010000
END:DAYLIGHT
BEGIN:STANDARD
TZOFFSETFROM:+0200
TZOFFSETTO:+0100
TZNAME:CET
DTSTART:20271031T010000
END:STANDARD
END:VTIMEZONE
BEGIN:VEVENT
DTSTART;TZID=Europe/Warsaw:20260321T100000
DTEND;TZID=Europe/Warsaw:20260321T210000
DTSTAMP:20260422T235446
CREATED:20260313T174547Z
LAST-MODIFIED:20260313T174547Z
UID:3266-1774087200-1774126800@www.nowasukcesja.pl
SUMMARY:Pierwszy dzień wiosny! Wymień stare\, sadź nowe
DESCRIPTION:Pierwszy Dzień Wiosny w Nowej Sukcesja to czas promocji\, radości i wiosennych inspiracji! 21 marca zapraszamy na specjalne oferty w sklepach i mnóstwo pozytywnej energii dla całych rodzin. To idealna okazja\, by odświeżyć styl\, złapać dobry nastrój i rozpocząć nowy sezon w najlepszej atmosferze.\nWidzimy się w Nowej Sukcesji – tu wiosna zaczyna się naprawdę!
URL:https://www.nowasukcesja.pl/event/pierwszy-dzien-wiosny-wymien-stare-sadz-nowe/
LOCATION:Nowa Sukcesja
ATTACH;FMTTYPE=image/png:https://www.nowasukcesja.pl/wp-content/uploads/2026/03/Pierwszy_Dzien_Wiosny.png
END:VEVENT
BEGIN:VEVENT
DTSTART;TZID=Europe/Warsaw:20260328T110000
DTEND;TZID=Europe/Warsaw:20260328T180000
DTSTAMP:20260422T235446
CREATED:20260324T142925Z
LAST-MODIFIED:20260324T143406Z
UID:3318-1774695600-1774720800@www.nowasukcesja.pl
SUMMARY:Wielkanocne Poszukiwania w Nowej Sukcesji! Sobota
DESCRIPTION:Wielkanocne Poszukiwania w Nowej Sukcesji!\nWielkanoc to czas radości\, rodzinnych spotkań i wspólnego spędzania czasu. W tym roku połącz świąteczne przygotowania z wyjątkową zabawą dla najmłodszych!\n📅 28–29 marca\n🕐 11:00–18:00\nDzieci wraz z rodzicami wyruszą na poszukiwanie wielkanocnych elementów ukrytych w galerii i zbieranie pieczątek. Po skompletowaniu wszystkich na małych odkrywców czekają wielkanocne nagrody! 🎁\nJak wziąć udział? 👇\n📍 Odwiedź infopoint i odbierz specjalną kartę 📝\n🛍️ Szukaj kurek w sklepach naszej galerii\n✔️ Znalazłeś kurkę? Poproś sprzedawcę o stempelek!\nZabawa trwa przez cały weekend – zarówno w sobotę\, jak i w niedzielę 29 marca\, która jest niedzielą handlową! To idealna okazja\, by bez pośpiechu przygotować się do świąt.\nDekoracje\, smakołyki na wielkanocny stół\, modowe inspiracje – wszystko znajdziesz w jednym miejscu. A gdy Ty zajmiesz się zakupami\, dzieci mogą oddać się zabawie w Hopa Lupa. Po wszystkim złap chwilę relaksu i spędź czas tak\, jak lubisz.\nPrzyjdźcie całą rodziną\, przeżyjcie wspólnie radosną przygodę i sprawcie\, by tegoroczna Wielkanoc była naprawdę wyjątkowa! 🌸💛
URL:https://www.nowasukcesja.pl/event/wielkanocne-poszukiwania-w-nowej-sukcesji/
LOCATION:Nowa Sukcesja
ATTACH;FMTTYPE=image/png:https://www.nowasukcesja.pl/wp-content/uploads/2026/03/KURKI-post.png
END:VEVENT
BEGIN:VEVENT
DTSTART;TZID=Europe/Warsaw:20260329T100000
DTEND;TZID=Europe/Warsaw:20260329T210000
DTSTAMP:20260422T235446
CREATED:20260226T160127Z
LAST-MODIFIED:20260226T160127Z
UID:3207-1774778400-1774818000@www.nowasukcesja.pl
SUMMARY:Niedziela handlowa
DESCRIPTION:Niedziela handlowa w Nowa Sukcesja to idealny czas na zakupy w najlepszym centrum handlowym w Łodzi! W Nowej Sukcesji każdy znajdzie coś dla siebie – modną odzież\, dodatki do domu\, AGD i RTV\, kosmetyki\, a także pyszne jedzenie i niesamowitą rozrywkę. Spędź niedzielę handlową aktywnie i komfortowo\, korzystając z bogatej oferty sklepów oraz atrakcji dla całej rodziny. \nOdwiedź Nową Sukcesję i połącz zakupy z wyjątkową zabawą w sercu Łodzi!
URL:https://www.nowasukcesja.pl/event/niedziela-handlowa/
LOCATION:Nowa Sukcesja
ATTACH;FMTTYPE=image/png:https://www.nowasukcesja.pl/wp-content/uploads/2026/02/NEDZIELE-HANDLOWE-2-scaled.png
END:VEVENT
BEGIN:VEVENT
DTSTART;TZID=Europe/Warsaw:20260329T110000
DTEND;TZID=Europe/Warsaw:20260329T180000
DTSTAMP:20260422T235446
CREATED:20260324T143512Z
LAST-MODIFIED:20260324T143512Z
UID:3325-1774782000-1774807200@www.nowasukcesja.pl
SUMMARY:Wielkanocne Poszukiwania w Nowej Sukcesji! Niedziela
DESCRIPTION:Wielkanocne Poszukiwania w Nowej Sukcesji!\nWielkanoc to czas radości\, rodzinnych spotkań i wspólnego spędzania czasu. W tym roku połącz świąteczne przygotowania z wyjątkową zabawą dla najmłodszych!\n📅 28–29 marca\n🕐 11:00–18:00\nDzieci wraz z rodzicami wyruszą na poszukiwanie wielkanocnych elementów ukrytych w galerii i zbieranie pieczątek. Po skompletowaniu wszystkich na małych odkrywców czekają wielkanocne nagrody! 🎁\nJak wziąć udział? 👇\n📍 Odwiedź infopoint i odbierz specjalną kartę 📝\n🛍️ Szukaj kurek w sklepach naszej galerii\n✔️ Znalazłeś kurkę? Poproś sprzedawcę o stempelek!\nZabawa trwa przez cały weekend – zarówno w sobotę\, jak i w niedzielę 29 marca\, która jest niedzielą handlową! To idealna okazja\, by bez pośpiechu przygotować się do świąt.\nDekoracje\, smakołyki na wielkanocny stół\, modowe inspiracje – wszystko znajdziesz w jednym miejscu. A gdy Ty zajmiesz się zakupami\, dzieci mogą oddać się zabawie w Hopa Lupa. Po wszystkim złap chwilę relaksu i spędź czas tak\, jak lubisz.\nPrzyjdźcie całą rodziną\, przeżyjcie wspólnie radosną przygodę i sprawcie\, by tegoroczna Wielkanoc była naprawdę wyjątkowa! 🌸💛
URL:https://www.nowasukcesja.pl/event/wielkanocne-poszukiwania-w-nowej-sukcesji-niedziela/
LOCATION:Nowa Sukcesja
ATTACH;FMTTYPE=image/png:https://www.nowasukcesja.pl/wp-content/uploads/2026/03/KURKI-post.png
END:VEVENT
BEGIN:VEVENT
DTSTART;TZID=Europe/Warsaw:20260401T100000
DTEND;TZID=Europe/Warsaw:20260406T210000
DTSTAMP:20260422T235446
CREATED:20260327T092822Z
LAST-MODIFIED:20260327T094148Z
UID:3338-1775037600-1775509200@www.nowasukcesja.pl
SUMMARY:Nowa Sukcesja Wielkanoc - Sprawdź godziny otwarcia!
DESCRIPTION:Zaplanuj swój świąteczny czas z Nową Sukcesją! Poniżej prezentujemy szczegółowe godziny otwarcia naszego centrum\, pasażu handlowego oraz strefy rozrywkowej w poszczególne dni Świąt Wielkanocnych: \nWielka Sobota (4.04.2026) \nPasaż Handlowy: 10:00 – 14:00 \nRozrywka i Gastronomia: 10:00 – 21:00 \nWybrane lokale: \nFitFabric: 7:00 – 22:00 \nHopa Lupa: 10:00 – 21:00 \nKról Kul: 15:00 – 23:00 \nNiedziela Wielkanocna (5.04.2026) \nW ten dzień Nowa Sukcesja (Pasaż Handlowy\, Rozrywka\, Gastronomia oraz FitFabric\, Hop Lupa\, Król Kul) będzie CAŁKOWICIE ZAMKNIĘTA. Życzymy spokojnych i rodzinnych Świąt! \nPoniedziałek Wielkanocny (6.04.2026) \nPasaż Handlowy: NIECZYNNE \nRozrywka i Gastronomia: 10:00 – 21:00 \nWybrane lokale: \nFitFabric: 8:00 – 20:00 \nHopa Lupa: 10:00 – 21:00 \nKról Kul: 13:00 – 21:00
URL:https://www.nowasukcesja.pl/event/nowa-sukcesja-wielkanoc-2026-godziny/
ATTACH;FMTTYPE=image/webp:https://www.nowasukcesja.pl/wp-content/uploads/2026/03/wielkanoc-01.webp
END:VEVENT
BEGIN:VEVENT
DTSTART;TZID=Europe/Warsaw:20260403T100000
DTEND;TZID=Europe/Warsaw:20260405T210000
DTSTAMP:20260422T235446
CREATED:20260327T095824Z
LAST-MODIFIED:20260327T095930Z
UID:3359-1775210400-1775422800@www.nowasukcesja.pl
SUMMARY:FitFabric\, Król Kul i Hopa Lupa - Godziny pracy w Wielkanoc
DESCRIPTION:Zaplanuj swój świąteczny czas z Nową Sukcesją! Poniżej prezentujemy szczegółowe godziny otwarcia naszego centrum\, pasażu handlowego oraz strefy rozrywkowej w poszczególne dni Świąt Wielkanocnych: \nWielka Sobota (4.04.2026) \nPasaż Handlowy: 10:00 – 14:00 \nRozrywka i Gastronomia: 10:00 – 21:00 \nWybrane lokale: \nFitFabric: 7:00 – 22:00 \nHopa Lupa: 10:00 – 21:00 \nKról Kul: 15:00 – 23:00 \nNiedziela Wielkanocna (5.04.2026) \nW ten dzień Nowa Sukcesja (Pasaż Handlowy\, Rozrywka\, Gastronomia oraz FitFabric\, Hop Lupa\, Król Kul) będzie CAŁKOWICIE ZAMKNIĘTA. Życzymy spokojnych i rodzinnych Świąt! \nPoniedziałek Wielkanocny (6.04.2026) \nPasaż Handlowy: NIECZYNNE \nRozrywka i Gastronomia: 10:00 – 21:00 \nWybrane lokale: \nFitFabric: 8:00 – 20:00 \nHopa Lupa: 10:00 – 21:00 \nKról Kul: 13:00 – 21:00
URL:https://www.nowasukcesja.pl/event/fitfabric-krol-kul-hopa-lupa-wielkanoc-godziny/
ATTACH;FMTTYPE=image/webp:https://www.nowasukcesja.pl/wp-content/uploads/2026/03/wielkanoc-05.webp
END:VEVENT
BEGIN:VEVENT
DTSTART;TZID=Europe/Warsaw:20260404T100000
DTEND;TZID=Europe/Warsaw:20260404T210000
DTSTAMP:20260422T235446
CREATED:20260327T094117Z
LAST-MODIFIED:20260327T094544Z
UID:3350-1775296800-1775336400@www.nowasukcesja.pl
SUMMARY:Wielka Sobota w Nowej Sukcesji
DESCRIPTION:Zaplanuj swój świąteczny czas z Nową Sukcesją! Poniżej prezentujemy szczegółowe godziny otwarcia naszego centrum\, pasażu handlowego oraz strefy rozrywkowej w poszczególne dni Świąt Wielkanocnych: \nWielka Sobota (4.04.2026) \nPasaż Handlowy: 10:00 – 14:00 \nRozrywka i Gastronomia: 10:00 – 21:00 \nWybrane lokale: \nFitFabric: 7:00 – 22:00 \nHopa Lupa: 10:00 – 21:00 \nKról Kul: 15:00 – 23:00 \nNiedziela Wielkanocna (5.04.2026) \nW ten dzień Nowa Sukcesja (Pasaż Handlowy\, Rozrywka\, Gastronomia oraz FitFabric\, Hop Lupa\, Król Kul) będzie CAŁKOWICIE ZAMKNIĘTA. Życzymy spokojnych i rodzinnych Świąt! \nPoniedziałek Wielkanocny (6.04.2026) \nPasaż Handlowy: NIECZYNNE \nRozrywka i Gastronomia: 10:00 – 21:00 \nWybrane lokale: \nFitFabric: 8:00 – 20:00 \nHopa Lupa: 10:00 – 21:00 \nKról Kul: 13:00 – 21:00
URL:https://www.nowasukcesja.pl/event/wielka-sobota-2026-nowa-sukcesja-godziny/
ATTACH;FMTTYPE=image/webp:https://www.nowasukcesja.pl/wp-content/uploads/2026/03/wielkanoc-02.webp
END:VEVENT
BEGIN:VEVENT
DTSTART;TZID=Europe/Warsaw:20260405T100000
DTEND;TZID=Europe/Warsaw:20260405T210000
DTSTAMP:20260422T235446
CREATED:20260327T094413Z
LAST-MODIFIED:20260327T094413Z
UID:3352-1775383200-1775422800@www.nowasukcesja.pl
SUMMARY:Niedziela Wielkanocna w Nowej Sukcesji!
DESCRIPTION:Zaplanuj swój świąteczny czas z Nową Sukcesją! Poniżej prezentujemy szczegółowe godziny otwarcia naszego centrum\, pasażu handlowego oraz strefy rozrywkowej w poszczególne dni Świąt Wielkanocnych: \nWielka Sobota (4.04.2026) \nPasaż Handlowy: 10:00 – 14:00 \nRozrywka i Gastronomia: 10:00 – 21:00 \nWybrane lokale: \nFitFabric: 7:00 – 22:00 \nHopa Lupa: 10:00 – 21:00 \nKról Kul: 15:00 – 23:00 \nNiedziela Wielkanocna (5.04.2026) \nW ten dzień Nowa Sukcesja (Pasaż Handlowy\, Rozrywka\, Gastronomia oraz FitFabric\, Hop Lupa\, Król Kul) będzie CAŁKOWICIE ZAMKNIĘTA. Życzymy spokojnych i rodzinnych Świąt! \nPoniedziałek Wielkanocny (6.04.2026) \nPasaż Handlowy: NIECZYNNE \nRozrywka i Gastronomia: 10:00 – 21:00 \nWybrane lokale: \nFitFabric: 8:00 – 20:00 \nHopa Lupa: 10:00 – 21:00 \nKról Kul: 13:00 – 21:00
URL:https://www.nowasukcesja.pl/event/niedziela-wielkanocna-nowa-sukcesja-czynne/
ATTACH;FMTTYPE=image/webp:https://www.nowasukcesja.pl/wp-content/uploads/2026/03/wielkanoc-03.webp
END:VEVENT
BEGIN:VEVENT
DTSTART;TZID=Europe/Warsaw:20260406T100000
DTEND;TZID=Europe/Warsaw:20260406T210000
DTSTAMP:20260422T235446
CREATED:20260327T095056Z
LAST-MODIFIED:20260327T095056Z
UID:3355-1775469600-1775509200@www.nowasukcesja.pl
SUMMARY:Poniedziałek Wielkanocny w Nowej Sukcesji
DESCRIPTION:Zaplanuj swój świąteczny czas z Nową Sukcesją! Poniżej prezentujemy szczegółowe godziny otwarcia naszego centrum\, pasażu handlowego oraz strefy rozrywkowej w poszczególne dni Świąt Wielkanocnych: \nWielka Sobota (4.04.2026) \nPasaż Handlowy: 10:00 – 14:00 \nRozrywka i Gastronomia: 10:00 – 21:00 \nWybrane lokale: \nFitFabric: 7:00 – 22:00 \nHopa Lupa: 10:00 – 21:00 \nKról Kul: 15:00 – 23:00 \nNiedziela Wielkanocna (5.04.2026) \nW ten dzień Nowa Sukcesja (Pasaż Handlowy\, Rozrywka\, Gastronomia oraz FitFabric\, Hop Lupa\, Król Kul) będzie CAŁKOWICIE ZAMKNIĘTA. Życzymy spokojnych i rodzinnych Świąt! \nPoniedziałek Wielkanocny (6.04.2026) \nPasaż Handlowy: NIECZYNNE \nRozrywka i Gastronomia: 10:00 – 21:00 \nWybrane lokale: \nFitFabric: 8:00 – 20:00 \nHopa Lupa: 10:00 – 21:00 \nKról Kul: 13:00 – 21:00
URL:https://www.nowasukcesja.pl/event/poniedzialek-wielkanocny-2026-nowa-sukcesja-atrakcje/
ATTACH;FMTTYPE=image/webp:https://www.nowasukcesja.pl/wp-content/uploads/2026/03/wielkanoc-04.webp
END:VEVENT
BEGIN:VEVENT
DTSTART;TZID=Europe/Warsaw:20260426T100000
DTEND;TZID=Europe/Warsaw:20260426T210000
DTSTAMP:20260422T235446
CREATED:20260226T160333Z
LAST-MODIFIED:20260226T160333Z
UID:3210-1777197600-1777237200@www.nowasukcesja.pl
SUMMARY:Niedziela handlowa
DESCRIPTION:Niedziela handlowa w Nowa Sukcesja to idealny czas na zakupy w najlepszym centrum handlowym w Łodzi! W Nowej Sukcesji każdy znajdzie coś dla siebie – modną odzież\, dodatki do domu\, AGD i RTV\, kosmetyki\, a także pyszne jedzenie i niesamowitą rozrywkę. Spędź niedzielę handlową aktywnie i komfortowo\, korzystając z bogatej oferty sklepów oraz atrakcji dla całej rodziny. \nOdwiedź Nową Sukcesję i połącz zakupy z wyjątkową zabawą w sercu Łodzi!
URL:https://www.nowasukcesja.pl/event/niedziela-handlowa-2/
LOCATION:Nowa Sukcesja
ATTACH;FMTTYPE=image/png:https://www.nowasukcesja.pl/wp-content/uploads/2026/02/NEDZIELE-HANDLOWE-2-scaled.png
END:VEVENT
BEGIN:VEVENT
DTSTART;TZID=Europe/Warsaw:20260628T100000
DTEND;TZID=Europe/Warsaw:20260628T210000
DTSTAMP:20260422T235446
CREATED:20260226T160423Z
LAST-MODIFIED:20260226T160423Z
UID:3213-1782640800-1782680400@www.nowasukcesja.pl
SUMMARY:Niedziela handlowa
DESCRIPTION:Niedziela handlowa w Nowa Sukcesja to idealny czas na zakupy w najlepszym centrum handlowym w Łodzi! W Nowej Sukcesji każdy znajdzie coś dla siebie – modną odzież\, dodatki do domu\, AGD i RTV\, kosmetyki\, a także pyszne jedzenie i niesamowitą rozrywkę. Spędź niedzielę handlową aktywnie i komfortowo\, korzystając z bogatej oferty sklepów oraz atrakcji dla całej rodziny. \nOdwiedź Nową Sukcesję i połącz zakupy z wyjątkową zabawą w sercu Łodzi!
URL:https://www.nowasukcesja.pl/event/niedziela-handlowa-3/
LOCATION:Nowa Sukcesja
ATTACH;FMTTYPE=image/png:https://www.nowasukcesja.pl/wp-content/uploads/2026/02/NEDZIELE-HANDLOWE-2-scaled.png
END:VEVENT
BEGIN:VEVENT
DTSTART;TZID=Europe/Warsaw:20260830T100000
DTEND;TZID=Europe/Warsaw:20260830T210000
DTSTAMP:20260422T235446
CREATED:20260226T160513Z
LAST-MODIFIED:20260226T160513Z
UID:3216-1788084000-1788123600@www.nowasukcesja.pl
SUMMARY:Niedziela handlowa
DESCRIPTION:Niedziela handlowa w Nowa Sukcesja to idealny czas na zakupy w najlepszym centrum handlowym w Łodzi! W Nowej Sukcesji każdy znajdzie coś dla siebie – modną odzież\, dodatki do domu\, AGD i RTV\, kosmetyki\, a także pyszne jedzenie i niesamowitą rozrywkę. Spędź niedzielę handlową aktywnie i komfortowo\, korzystając z bogatej oferty sklepów oraz atrakcji dla całej rodziny. \nOdwiedź Nową Sukcesję i połącz zakupy z wyjątkową zabawą w sercu Łodzi!
URL:https://www.nowasukcesja.pl/event/niedziela-handlowa-4/
LOCATION:Nowa Sukcesja
ATTACH;FMTTYPE=image/png:https://www.nowasukcesja.pl/wp-content/uploads/2026/02/NEDZIELE-HANDLOWE-2-scaled.png
END:VEVENT
BEGIN:VEVENT
DTSTART;TZID=Europe/Warsaw:20261206T100000
DTEND;TZID=Europe/Warsaw:20261206T200000
DTSTAMP:20260422T235446
CREATED:20260226T160613Z
LAST-MODIFIED:20260226T160613Z
UID:3219-1796551200-1796587200@www.nowasukcesja.pl
SUMMARY:Niedziela handlowa
DESCRIPTION:Niedziela handlowa w Nowa Sukcesja to idealny czas na zakupy w najlepszym centrum handlowym w Łodzi! W Nowej Sukcesji każdy znajdzie coś dla siebie – modną odzież\, dodatki do domu\, AGD i RTV\, kosmetyki\, a także pyszne jedzenie i niesamowitą rozrywkę. Spędź niedzielę handlową aktywnie i komfortowo\, korzystając z bogatej oferty sklepów oraz atrakcji dla całej rodziny. \nOdwiedź Nową Sukcesję i połącz zakupy z wyjątkową zabawą w sercu Łodzi!
URL:https://www.nowasukcesja.pl/event/niedziela-handlowa-5/
LOCATION:Nowa Sukcesja
ATTACH;FMTTYPE=image/png:https://www.nowasukcesja.pl/wp-content/uploads/2026/02/NEDZIELE-HANDLOWE-2-scaled.png
END:VEVENT
BEGIN:VEVENT
DTSTART;TZID=Europe/Warsaw:20261213T100000
DTEND;TZID=Europe/Warsaw:20261213T210000
DTSTAMP:20260422T235446
CREATED:20260226T160645Z
LAST-MODIFIED:20260226T160645Z
UID:3222-1797156000-1797195600@www.nowasukcesja.pl
SUMMARY:Niedziela handlowa
DESCRIPTION:Niedziela handlowa w Nowa Sukcesja to idealny czas na zakupy w najlepszym centrum handlowym w Łodzi! W Nowej Sukcesji każdy znajdzie coś dla siebie – modną odzież\, dodatki do domu\, AGD i RTV\, kosmetyki\, a także pyszne jedzenie i niesamowitą rozrywkę. Spędź niedzielę handlową aktywnie i komfortowo\, korzystając z bogatej oferty sklepów oraz atrakcji dla całej rodziny. \nOdwiedź Nową Sukcesję i połącz zakupy z wyjątkową zabawą w sercu Łodzi!
URL:https://www.nowasukcesja.pl/event/niedziela-handlowa-6/
LOCATION:Nowa Sukcesja
ATTACH;FMTTYPE=image/png:https://www.nowasukcesja.pl/wp-content/uploads/2026/02/NEDZIELE-HANDLOWE-2-scaled.png
END:VEVENT
BEGIN:VEVENT
DTSTART;TZID=Europe/Warsaw:20261220T100000
DTEND;TZID=Europe/Warsaw:20261220T210000
DTSTAMP:20260422T235446
CREATED:20260226T160722Z
LAST-MODIFIED:20260226T160722Z
UID:3225-1797760800-1797800400@www.nowasukcesja.pl
SUMMARY:Niedziela handlowa
DESCRIPTION:Niedziela handlowa w Nowa Sukcesja to idealny czas na zakupy w najlepszym centrum handlowym w Łodzi! W Nowej Sukcesji każdy znajdzie coś dla siebie – modną odzież\, dodatki do domu\, AGD i RTV\, kosmetyki\, a także pyszne jedzenie i niesamowitą rozrywkę. Spędź niedzielę handlową aktywnie i komfortowo\, korzystając z bogatej oferty sklepów oraz atrakcji dla całej rodziny. \nOdwiedź Nową Sukcesję i połącz zakupy z wyjątkową zabawą w sercu Łodzi!
URL:https://www.nowasukcesja.pl/event/niedziela-handlowa-7/
LOCATION:Nowa Sukcesja
ATTACH;FMTTYPE=image/png:https://www.nowasukcesja.pl/wp-content/uploads/2026/02/NEDZIELE-HANDLOWE-2-scaled.png
END:VEVENT
END:VCALENDAR