BEGIN:VCALENDAR
VERSION:2.0
PRODID:-//Nowa Sukcesja - ECPv6.15.11//NONSGML v1.0//EN
CALSCALE:GREGORIAN
METHOD:PUBLISH
X-WR-CALNAME:Nowa Sukcesja
X-ORIGINAL-URL:https://www.nowasukcesja.pl
X-WR-CALDESC:Wydarzenia dla Nowa Sukcesja
REFRESH-INTERVAL;VALUE=DURATION:PT1H
X-Robots-Tag:noindex
X-PUBLISHED-TTL:PT1H
BEGIN:VTIMEZONE
TZID:Europe/Warsaw
BEGIN:DAYLIGHT
TZOFFSETFROM:+0100
TZOFFSETTO:+0200
TZNAME:CEST
DTSTART:20250330T010000
END:DAYLIGHT
BEGIN:STANDARD
TZOFFSETFROM:+0200
TZOFFSETTO:+0100
TZNAME:CET
DTSTART:20251026T010000
END:STANDARD
BEGIN:DAYLIGHT
TZOFFSETFROM:+0100
TZOFFSETTO:+0200
TZNAME:CEST
DTSTART:20260329T010000
END:DAYLIGHT
BEGIN:STANDARD
TZOFFSETFROM:+0200
TZOFFSETTO:+0100
TZNAME:CET
DTSTART:20261025T010000
END:STANDARD
BEGIN:DAYLIGHT
TZOFFSETFROM:+0100
TZOFFSETTO:+0200
TZNAME:CEST
DTSTART:20270328T010000
END:DAYLIGHT
BEGIN:STANDARD
TZOFFSETFROM:+0200
TZOFFSETTO:+0100
TZNAME:CET
DTSTART:20271031T010000
END:STANDARD
END:VTIMEZONE
BEGIN:VEVENT
DTSTART;TZID=Europe/Warsaw:20260424T100000
DTEND;TZID=Europe/Warsaw:20260426T180000
DTSTAMP:20260426T014254
CREATED:20260424T140511Z
LAST-MODIFIED:20260424T140531Z
UID:3407-1777024800-1777226400@www.nowasukcesja.pl
SUMMARY:Super Mario w Nowej Sukcesji! Wielka Strefa Gamingowa
DESCRIPTION:🎮🍄 Super Mario w Nowej Sukcesji! Wielka Strefa Gamingowa 🍄🎮\nZapraszamy wszystkich – małych i dużych – na wyjątkowe wydarzenie pełne emocji\, zabawy i nostalgii!\n📅 24–26 kwietnia\n📍 Nowa Sukcesja\nPrzenieś się razem z nami do świata kultowych gier Nintendo i spotkaj swoich ulubionych bohaterów! Czeka na Was specjalnie przygotowana strefa gamingowa\, która połączy pokolenia i dostarczy mnóstwo radości 🎉\n🎮 Co na Was czeka?\n🍄 Mario World\nZagraj w najpopularniejsze tytuły z najsłynniejszym hydraulikiem świata – w tym najnowsze odsłony serii!\n​￼​ Strefa sportowa\nRywalizuj w dynamicznych grach sportowych i sprawdź swoje umiejętności!\n🎨 Malujemy świat\nKolorowa zabawa dla najmłodszych – kreatywne aktywności inspirowane grami!\n🗡️ Świat Zeldy\nWyrusz na przygodę\, rozwiązuj zagadki i odkrywaj tajemnicze krainy!\n✨ Nowości gamingowe\nPoznaj najnowsze tytuły\, które wciągną całą rodzinę!\n🎲 Strefa planszówek\nOdpocznij od ekranów i sprawdź się w grach offline – dla dzieci od 4 roku życia i dorosłych!\n👨‍👩‍👧‍👦 To idealna okazja\, żeby:\n✔️ spędzić czas z rodziną\n✔️ wrócić do ulubionych gier z dzieciństwa\n✔️ odkryć nowe tytuły\n✔️ dobrze się bawić w świetnej atmosferze\n🎉 Wpadnij do Nowej Sukcesji i dołącz do świata Super Mario!\nNie może Cię zabraknąć!
URL:https://www.nowasukcesja.pl/event/super-mario-w-nowej-sukcesji-wielka-strefa-gamingowa/
LOCATION:Nowa Sukcesja
ATTACH;FMTTYPE=image/png:https://www.nowasukcesja.pl/wp-content/uploads/2026/04/MarioAndFriendsPost-1-scaled.png
END:VEVENT
BEGIN:VEVENT
DTSTART;TZID=Europe/Warsaw:20260426T100000
DTEND;TZID=Europe/Warsaw:20260426T210000
DTSTAMP:20260426T014254
CREATED:20260226T160333Z
LAST-MODIFIED:20260226T160333Z
UID:3210-1777197600-1777237200@www.nowasukcesja.pl
SUMMARY:Niedziela handlowa
DESCRIPTION:Niedziela handlowa w Nowa Sukcesja to idealny czas na zakupy w najlepszym centrum handlowym w Łodzi! W Nowej Sukcesji każdy znajdzie coś dla siebie – modną odzież\, dodatki do domu\, AGD i RTV\, kosmetyki\, a także pyszne jedzenie i niesamowitą rozrywkę. Spędź niedzielę handlową aktywnie i komfortowo\, korzystając z bogatej oferty sklepów oraz atrakcji dla całej rodziny. \nOdwiedź Nową Sukcesję i połącz zakupy z wyjątkową zabawą w sercu Łodzi!
URL:https://www.nowasukcesja.pl/event/niedziela-handlowa-2/
LOCATION:Nowa Sukcesja
ATTACH;FMTTYPE=image/png:https://www.nowasukcesja.pl/wp-content/uploads/2026/02/NEDZIELE-HANDLOWE-2-scaled.png
END:VEVENT
END:VCALENDAR