BEGIN:VCALENDAR
VERSION:2.0
PRODID:-//Nowa Sukcesja - ECPv6.15.11//NONSGML v1.0//EN
CALSCALE:GREGORIAN
METHOD:PUBLISH
X-ORIGINAL-URL:https://www.nowasukcesja.pl
X-WR-CALDESC:Wydarzenia dla Nowa Sukcesja
REFRESH-INTERVAL;VALUE=DURATION:PT1H
X-Robots-Tag:noindex
X-PUBLISHED-TTL:PT1H
BEGIN:VTIMEZONE
TZID:Europe/Warsaw
BEGIN:DAYLIGHT
TZOFFSETFROM:+0100
TZOFFSETTO:+0200
TZNAME:CEST
DTSTART:20250330T010000
END:DAYLIGHT
BEGIN:STANDARD
TZOFFSETFROM:+0200
TZOFFSETTO:+0100
TZNAME:CET
DTSTART:20251026T010000
END:STANDARD
BEGIN:DAYLIGHT
TZOFFSETFROM:+0100
TZOFFSETTO:+0200
TZNAME:CEST
DTSTART:20260329T010000
END:DAYLIGHT
BEGIN:STANDARD
TZOFFSETFROM:+0200
TZOFFSETTO:+0100
TZNAME:CET
DTSTART:20261025T010000
END:STANDARD
BEGIN:DAYLIGHT
TZOFFSETFROM:+0100
TZOFFSETTO:+0200
TZNAME:CEST
DTSTART:20270328T010000
END:DAYLIGHT
BEGIN:STANDARD
TZOFFSETFROM:+0200
TZOFFSETTO:+0100
TZNAME:CET
DTSTART:20271031T010000
END:STANDARD
END:VTIMEZONE
BEGIN:VEVENT
DTSTART;TZID=Europe/Warsaw:20260321T100000
DTEND;TZID=Europe/Warsaw:20260321T210000
DTSTAMP:20260422T190252
CREATED:20260313T174547Z
LAST-MODIFIED:20260313T174547Z
UID:3266-1774087200-1774126800@www.nowasukcesja.pl
SUMMARY:Pierwszy dzień wiosny! Wymień stare\, sadź nowe
DESCRIPTION:Pierwszy Dzień Wiosny w Nowej Sukcesja to czas promocji\, radości i wiosennych inspiracji! 21 marca zapraszamy na specjalne oferty w sklepach i mnóstwo pozytywnej energii dla całych rodzin. To idealna okazja\, by odświeżyć styl\, złapać dobry nastrój i rozpocząć nowy sezon w najlepszej atmosferze.\nWidzimy się w Nowej Sukcesji – tu wiosna zaczyna się naprawdę!
URL:https://www.nowasukcesja.pl/event/pierwszy-dzien-wiosny-wymien-stare-sadz-nowe/
LOCATION:Nowa Sukcesja
ATTACH;FMTTYPE=image/png:https://www.nowasukcesja.pl/wp-content/uploads/2026/03/Pierwszy_Dzien_Wiosny.png
END:VEVENT
END:VCALENDAR