BEGIN:VCALENDAR
VERSION:2.0
PRODID:-//Nowa Sukcesja - ECPv6.15.11//NONSGML v1.0//EN
CALSCALE:GREGORIAN
METHOD:PUBLISH
X-ORIGINAL-URL:https://www.nowasukcesja.pl
X-WR-CALDESC:Wydarzenia dla Nowa Sukcesja
REFRESH-INTERVAL;VALUE=DURATION:PT1H
X-Robots-Tag:noindex
X-PUBLISHED-TTL:PT1H
BEGIN:VTIMEZONE
TZID:Europe/Warsaw
BEGIN:DAYLIGHT
TZOFFSETFROM:+0100
TZOFFSETTO:+0200
TZNAME:CEST
DTSTART:20250330T010000
END:DAYLIGHT
BEGIN:STANDARD
TZOFFSETFROM:+0200
TZOFFSETTO:+0100
TZNAME:CET
DTSTART:20251026T010000
END:STANDARD
BEGIN:DAYLIGHT
TZOFFSETFROM:+0100
TZOFFSETTO:+0200
TZNAME:CEST
DTSTART:20260329T010000
END:DAYLIGHT
BEGIN:STANDARD
TZOFFSETFROM:+0200
TZOFFSETTO:+0100
TZNAME:CET
DTSTART:20261025T010000
END:STANDARD
BEGIN:DAYLIGHT
TZOFFSETFROM:+0100
TZOFFSETTO:+0200
TZNAME:CEST
DTSTART:20270328T010000
END:DAYLIGHT
BEGIN:STANDARD
TZOFFSETFROM:+0200
TZOFFSETTO:+0100
TZNAME:CET
DTSTART:20271031T010000
END:STANDARD
END:VTIMEZONE
BEGIN:VEVENT
DTSTART;TZID=Europe/Warsaw:20260207T113000
DTEND;TZID=Europe/Warsaw:20260207T183000
DTSTAMP:20260422T203755
CREATED:20260129T095017Z
LAST-MODIFIED:20260129T095017Z
UID:3112-1770463800-1770489000@www.nowasukcesja.pl
SUMMARY:Spider Show Łódź – niezwykłe spotkanie z pająkami w Nowej Sukcesji
DESCRIPTION:Spider Show Łódź w Nowej Sukcesji\nSpider Show Łódź to wyjątkowe wydarzenie dla wszystkich ciekawych świata\, którzy chcą spojrzeć na pająki z zupełnie innej perspektywy. Już 7–8 lutego w Nowej Sukcesji czeka na Ciebie niezwykłe widowisko\, które łączy edukację\, emocje i dobrą zabawę. \nPodczas Spider Show będziesz mieć okazję zobaczyć pająki z bliska\, poznać ich niesamowite zwyczaje oraz dowiedzieć się\, dlaczego te stworzenia są tak ważne dla naszego ekosystemu. To doskonała propozycja zarówno dla dzieci\, jak i dorosłych — szczególnie dla tych\, którzy chcą przełamać swój strach i zamienić go w fascynację. \n🕸 Co czeka na uczestników Spider Show?\n\n\npokazy pająków na żywo \n\n\nciekawostki i tajemnice ze świata tych niezwykłych zwierząt \n\n\nmożliwość wykonania wyjątkowych zdjęć \n\n\nemocje i niezapomniane wrażenia \n\n\nnagrody dla uczestników \n\n\n⏰ Godziny pokazów\nSpider Show w Łodzi odbędzie się w kilku turach\, aby każdy mógł wziąć udział w wydarzeniu: \n\n\n11:30 \n\n\n15:30 \n\n\n17:30 \n\n\n📍 Gdzie?\nNowa Sukcesja\, Łódź \nWidzimy się w Hopa Lupa na strefie Show Time! \nJeśli szukasz pomysłu na rodzinne wydarzenie w Łodzi\, Spider Show to idealna okazja\, by połączyć rozrywkę z nauką i przeżyć coś naprawdę wyjątkowego. \nWpadnij\, daj się zaskoczyć i zgarnij nagrody podczas Spider Show Łódź! 🕷✨
URL:https://www.nowasukcesja.pl/event/spider-show-lodz-nowa-sukcesja/
LOCATION:Hopa Lupa\, Politechniki 1\, Łódź\, Łódzkie\, 95-100\, Poland
ATTACH;FMTTYPE=image/png:https://www.nowasukcesja.pl/wp-content/uploads/2026/01/PAJAKI-post-.png
END:VEVENT
END:VCALENDAR