BEGIN:VCALENDAR
VERSION:2.0
PRODID:-//Nowa Sukcesja - ECPv6.15.11//NONSGML v1.0//EN
CALSCALE:GREGORIAN
METHOD:PUBLISH
X-ORIGINAL-URL:https://www.nowasukcesja.pl
X-WR-CALDESC:Wydarzenia dla Nowa Sukcesja
REFRESH-INTERVAL;VALUE=DURATION:PT1H
X-Robots-Tag:noindex
X-PUBLISHED-TTL:PT1H
BEGIN:VTIMEZONE
TZID:Europe/Warsaw
BEGIN:DAYLIGHT
TZOFFSETFROM:+0100
TZOFFSETTO:+0200
TZNAME:CEST
DTSTART:20250330T010000
END:DAYLIGHT
BEGIN:STANDARD
TZOFFSETFROM:+0200
TZOFFSETTO:+0100
TZNAME:CET
DTSTART:20251026T010000
END:STANDARD
BEGIN:DAYLIGHT
TZOFFSETFROM:+0100
TZOFFSETTO:+0200
TZNAME:CEST
DTSTART:20260329T010000
END:DAYLIGHT
BEGIN:STANDARD
TZOFFSETFROM:+0200
TZOFFSETTO:+0100
TZNAME:CET
DTSTART:20261025T010000
END:STANDARD
BEGIN:DAYLIGHT
TZOFFSETFROM:+0100
TZOFFSETTO:+0200
TZNAME:CEST
DTSTART:20270328T010000
END:DAYLIGHT
BEGIN:STANDARD
TZOFFSETFROM:+0200
TZOFFSETTO:+0100
TZNAME:CET
DTSTART:20271031T010000
END:STANDARD
END:VTIMEZONE
BEGIN:VEVENT
DTSTART;TZID=Europe/Warsaw:20260121T100000
DTEND;TZID=Europe/Warsaw:20260122T210000
DTSTAMP:20260422T220419
CREATED:20260114T180530Z
LAST-MODIFIED:20260114T180530Z
UID:3014-1768989600-1769115600@www.nowasukcesja.pl
SUMMARY:Dzień Babci i Dzień Dziadka w Hopa Lupa!
DESCRIPTION:W Hopa Lupa świętujemy obecność Babć i Dziadków! 👵👴 \nZ tej okazji każda Babcia i każdy Dziadek\, który zawita do nas z wnukiem\, wchodzi na bilet dziecka! \nDla tych\, którzy postanowią jednak obserwować zabawę wnucząt z boku\, przygotowaliśmy specjalny bonus w postaci darmowego vouchera na kawę oraz ciasto\, do wykorzystania w naszym bufecie. Promocja obowiązuje przy rezygnacji z aktywnego wejścia do strefy zabaw. ☕🍰 \nZapraszamy do wspólnego tworzenia wspomnień!
URL:https://www.nowasukcesja.pl/event/dzien-babci-i-dzien-dziadka-w-hopa-lupa/
LOCATION:Hopa Lupa\, Politechniki 1\, Łódź\, Łódzkie\, 95-100\, Poland
ATTACH;FMTTYPE=image/png:https://www.nowasukcesja.pl/wp-content/uploads/2026/01/babcia-i-dziadek.png
ORGANIZER;CN="Hopa Lupa":MAILTO:info@hopalupa.fun
END:VEVENT
END:VCALENDAR